BEGIN:VCALENDAR
VERSION:2.0
PRODID:-//LMCU Ballpark - ECPv6.15.20//NONSGML v1.0//EN
CALSCALE:GREGORIAN
METHOD:PUBLISH
X-ORIGINAL-URL:https://lmcuballpark.com
X-WR-CALDESC:Events for LMCU Ballpark
REFRESH-INTERVAL;VALUE=DURATION:PT1H
X-Robots-Tag:noindex
X-PUBLISHED-TTL:PT1H
BEGIN:VTIMEZONE
TZID:UTC
BEGIN:STANDARD
TZOFFSETFROM:+0000
TZOFFSETTO:+0000
TZNAME:UTC
DTSTART:20230101T000000
END:STANDARD
END:VTIMEZONE
BEGIN:VEVENT
DTSTART;TZID=UTC:20240516T160000
DTEND;TZID=UTC:20240519T170000
DTSTAMP:20260425T064950
CREATED:20240313T220243Z
LAST-MODIFIED:20240313T220243Z
UID:10401-1715875200-1716138000@lmcuballpark.com
SUMMARY:Spring Carnival presented by Skerbeck Entertainment Group
DESCRIPTION:The carnival is back in town May 16-19! Join us with friends and family for fun\, rides\, and all your favorite carnival foods. \n \nThursday & Friday – open at 4:00 PM\nSaturday & Sunday – open at 12:00 PM \nPurchase tickets before 12:00 PM on May 16 to use a credit card. Cash sales only on site at the carnival. \nVisit Skerbeck Carnival to purchase tickets and find out more information!
URL:https://lmcuballpark.com/event/spring-carnival-presented-by-skerbeck-entertainment-group/
LOCATION:LMCU Ballpark\, 4500 West River Drive\, Comstock Park\, MI\, 49321\, United States
CATEGORIES:Carnival
ATTACH;FMTTYPE=image/jpeg:https://lmcuballpark.com/wp-content/uploads/2023/03/skerbeck.jpg
END:VEVENT
END:VCALENDAR