BEGIN:VCALENDAR
VERSION:2.0
PRODID:-//LMCU Ballpark - ECPv6.15.20//NONSGML v1.0//EN
CALSCALE:GREGORIAN
METHOD:PUBLISH
X-ORIGINAL-URL:https://lmcuballpark.com
X-WR-CALDESC:Events for LMCU Ballpark
REFRESH-INTERVAL;VALUE=DURATION:PT1H
X-Robots-Tag:noindex
X-PUBLISHED-TTL:PT1H
BEGIN:VTIMEZONE
TZID:America/Detroit
BEGIN:DAYLIGHT
TZOFFSETFROM:-0500
TZOFFSETTO:-0400
TZNAME:EDT
DTSTART:20250309T070000
END:DAYLIGHT
BEGIN:STANDARD
TZOFFSETFROM:-0400
TZOFFSETTO:-0500
TZNAME:EST
DTSTART:20251102T060000
END:STANDARD
BEGIN:DAYLIGHT
TZOFFSETFROM:-0500
TZOFFSETTO:-0400
TZNAME:EDT
DTSTART:20260308T070000
END:DAYLIGHT
BEGIN:STANDARD
TZOFFSETFROM:-0400
TZOFFSETTO:-0500
TZNAME:EST
DTSTART:20261101T060000
END:STANDARD
BEGIN:DAYLIGHT
TZOFFSETFROM:-0500
TZOFFSETTO:-0400
TZNAME:EDT
DTSTART:20270314T070000
END:DAYLIGHT
BEGIN:STANDARD
TZOFFSETFROM:-0400
TZOFFSETTO:-0500
TZNAME:EST
DTSTART:20271107T060000
END:STANDARD
END:VTIMEZONE
BEGIN:VEVENT
DTSTART;VALUE=DATE:20260513
DTEND;VALUE=DATE:20260514
DTSTAMP:20260421T042204
CREATED:20260112T192238Z
LAST-MODIFIED:20260323T153349Z
UID:10755-1778630400-1778716799@lmcuballpark.com
SUMMARY:High School Baseball: Hamilton vs. Fruitport DH
DESCRIPTION:LMCU Ballpark is proud to host the Whitecaps of tomorrow! Fans of Hamilton High School and Fruitport High School are invited to watch these teams take the field. Game times will be announced soon. \nTickets are sold by the schools and available at the door. Concessions will be open throughout the game\, and please note that LMCU Ballpark is a cashless facility. \nPresented by Michigan Student Aid
URL:https://lmcuballpark.com/event/high-school-baseball-hamilton-vs-fruitport-dh/
LOCATION:LMCU Ballpark\, 4500 West River Drive\, Comstock Park\, MI\, 49321\, United States
CATEGORIES:High School Baseball
ATTACH;FMTTYPE=image/jpeg:https://lmcuballpark.com/wp-content/uploads/2026/01/Hamilton-vs.-Fruitport.jpg
END:VEVENT
END:VCALENDAR